BEGIN:VCALENDAR
VERSION:2.0
PRODID:-//ChamberMaster//Event Calendar 2.0//EN
METHOD:PUBLISH
X-PUBLISHED-TTL:P3D
REFRESH-INTERVAL:P3D
CALSCALE:GREGORIAN
BEGIN:VEVENT
DTSTART:20220623T200000Z
DTEND:20220623T210000Z
X-MICROSOFT-CDO-ALLDAYEVENT:FALSE
SUMMARY:Crafternoon at the Doerun Library
DESCRIPTION:Doerun Crafternoon Drop by the Doerun Library to make an ocean-themed craft. Today we will create pirate ships.
X-ALT-DESC;FMTTYPE=text/html:Doerun Crafternoon&mdash\;Drop by the Doerun Library to make an ocean-themed craft. Today we will create pirate ships.
LOCATION:Doerun Municipal Library 185 N Freeman St Doerun\, GA 31744
UID:e.570.12914
SEQUENCE:3
DTSTAMP:20260423T170534Z
URL:http://business.moultriechamber.com/events/details/crafternoon-at-the-doerun-library-06-23-2022-12914
END:VEVENT

END:VCALENDAR
