BEGIN:VCALENDAR
VERSION:2.0
PRODID:-//ChamberMaster//Event Calendar 2.0//EN
METHOD:PUBLISH
X-PUBLISHED-TTL:P3D
REFRESH-INTERVAL:P3D
CALSCALE:GREGORIAN
BEGIN:VEVENT
DTSTART:20180712T200000Z
DTEND:20180712T210000Z
X-MICROSOFT-CDO-ALLDAYEVENT:FALSE
SUMMARY:Crafternoon
DESCRIPTION:Rock your creativity with DIYs such as origami\, duct tape\, slime\, and glow paint.
X-ALT-DESC;FMTTYPE=text/html:Rock your creativity with DIYs such as origami\, duct tape\, slime\, and glow paint.
LOCATION:Doerun Library\, 185 N Freeman St.\, Doerun
UID:e.570.9317
SEQUENCE:3
DTSTAMP:20260426T043249Z
URL:http://business.moultriechamber.com/events/details/crafternoon-07-12-2018-9317
END:VEVENT

END:VCALENDAR
