BEGIN:VCALENDAR
VERSION:2.0
PRODID:-//ChamberMaster//Event Calendar 2.0//EN
METHOD:PUBLISH
X-PUBLISHED-TTL:P3D
REFRESH-INTERVAL:P3D
CALSCALE:GREGORIAN
BEGIN:VEVENT
DTSTART:20220615T143000Z
DTEND:20220615T153000Z
X-MICROSOFT-CDO-ALLDAYEVENT:FALSE
SUMMARY:Craft 'n Movie -The Little Mermaid
DESCRIPTION:Craft 'n Movie - The Little Mermaid - Enjoy watching ocean-themed family favorites on a big screen while making a craft that goes with the story!
X-ALT-DESC;FMTTYPE=text/html:Craft &lsquo\;n Movie - The Little Mermaid -&mdash\;Enjoy watching ocean-themed family favorites on a big screen while making a craft that goes with the story!
LOCATION:Moultrie-Colquitt Library System 504 5th Street\, SE Moultrie\, Ga.
UID:e.570.12909
SEQUENCE:3
DTSTAMP:20260423T170955Z
URL:http://business.moultriechamber.com/events/details/craft-n-movie-the-little-mermaid-12909
END:VEVENT

END:VCALENDAR
