BEGIN:VCALENDAR
VERSION:2.0
PRODID:-//ChamberMaster//Event Calendar 2.0//EN
METHOD:PUBLISH
X-PUBLISHED-TTL:P3D
REFRESH-INTERVAL:P3D
CALSCALE:GREGORIAN
BEGIN:VEVENT
DTSTART:20220713T143000Z
DTEND:20220713T153000Z
X-MICROSOFT-CDO-ALLDAYEVENT:FALSE
SUMMARY:Craft'n Movie: Finding Nemo
DESCRIPTION:Enjoy watching ocean-themed family favorites on the big screen while making a craft that goes with the story.
X-ALT-DESC;FMTTYPE=text/html:Enjoy watching ocean-themed family favorites on the big screen while making a craft that goes with the story.
LOCATION:Moultrie-Colquitt Library System 504 5th Street\, SE Moultrie\, Ga.
UID:e.570.12943
SEQUENCE:3
DTSTAMP:20260423T155652Z
URL:http://business.moultriechamber.com/events/details/craft-n-movie-finding-nemo-12943
END:VEVENT

END:VCALENDAR
