BEGIN:VCALENDAR
VERSION:2.0
PRODID:-//ChamberMaster//Event Calendar 2.0//EN
METHOD:PUBLISH
X-PUBLISHED-TTL:P3D
REFRESH-INTERVAL:P3D
CALSCALE:GREGORIAN
BEGIN:VEVENT
DTSTART:20220820T120000Z
DTEND:20220820T160000Z
X-MICROSOFT-CDO-ALLDAYEVENT:FALSE
SUMMARY:CPR\, First Aid\, and AED Training
DESCRIPTION:The class is $35 and will be held at Meredith Gym on August 20 from 8am until 12pm. Call 229-668-0028 or visit mccpra.com for more information.
X-ALT-DESC;FMTTYPE=text/html:The class is $35 and will be held at Meredith Gym on August 20 from 8am until 12pm. Call 229-668-0028 or visit mccpra.com for more information.
LOCATION:Meredith Gym
UID:e.570.12967
SEQUENCE:3
DTSTAMP:20260423T143550Z
URL:http://business.moultriechamber.com/events/details/cpr-first-aid-and-aed-training-12967
END:VEVENT

END:VCALENDAR
