BEGIN:VCALENDAR
VERSION:2.0
PRODID:-//ChamberMaster//Event Calendar 2.0//EN
METHOD:PUBLISH
X-PUBLISHED-TTL:P3D
REFRESH-INTERVAL:P3D
CALSCALE:GREGORIAN
BEGIN:VEVENT
DTSTART:20201205T140000Z
DTEND:20201205T190000Z
X-MICROSOFT-CDO-ALLDAYEVENT:FALSE
SUMMARY:CPR\, First Aid\, and AED Training
DESCRIPTION:The purpose of the courses in the First Aid/CPR/AED program is to help participants recognize and respond appropriately to cardiac\, breathing\, and first aid emergencies\; to know how to care for a suddenly injured or ill person until more advanced medical personnel arrive and take over. The First Aid/CPR/AED program is available in two delivery formats: classroom (instructor-led) and blended learning\, featuring online simulation learning followed by an in-person skills session. The program offers the flexibility of selecting First Aid\, CPR\, and AED courses for adults\, children\, and infants depending upon your training needs. With a variety of course options and delivery formats\, courses in the First Aid/CPR/AED training program range from 3 hours to 6 hours in duration. English and Spanish versions of the program are available. The First Aid/CPR/AED training program includes supplemental\, add-on training modules for more advanced training and certification in key topics\, including OSHA-mandated Bloodborne Pathogens Training\, Anaphylaxis and Epinephrine Auto-Injector\, Asthma Inhaler Training\, and Administering Emergency Oxygen. The class is $75 and for those 14 years of age and older. This class will be held at Ryce Community Center on December 5 9am -2pm.
X-ALT-DESC;FMTTYPE=text/html:The purpose of the courses in the First Aid/CPR/AED program is to help participants recognize and respond appropriately to cardiac\, breathing\, and first aid emergencies\; to know how to care for a suddenly injured or ill person until more advanced medical personnel arrive and take over. The First Aid/CPR/AED program is available in two delivery formats: classroom (instructor-led) and blended learning\, featuring online simulation learning followed by an in-person skills session. The program offers the flexibility of selecting First Aid\, CPR\, and AED courses for adults\, children\, and infants depending upon your training needs. With a variety of course options and delivery formats\, courses in the First Aid/CPR/AED training program range from 3 hours to 6 hours in duration. English and Spanish versions of the program are available. The First Aid/CPR/AED training program includes supplemental\, add-on training modules for more advanced training and certification in key topics\, including OSHA-mandated Bloodborne Pathogens Training\, Anaphylaxis and Epinephrine Auto-Injector\, Asthma Inhaler Training\, and Administering Emergency Oxygen. The class is $75 and for those 14 years of age and older. This class will be held at Ryce Community Center on December 5 9am -2pm.
LOCATION:Ryce Community Center
UID:e.570.11184
SEQUENCE:3
DTSTAMP:20260424T151956Z
URL:http://business.moultriechamber.com/events/details/cpr-first-aid-and-aed-training-12-05-2020-11184
END:VEVENT

END:VCALENDAR
