BEGIN:VCALENDAR
VERSION:2.0
PRODID:-//ChamberMaster//Event Calendar 2.0//EN
METHOD:PUBLISH
X-PUBLISHED-TTL:P3D
REFRESH-INTERVAL:P3D
CALSCALE:GREGORIAN
BEGIN:VEVENT
DTSTART:20210119T233000Z
DTEND:20210120T010000Z
X-MICROSOFT-CDO-ALLDAYEVENT:FALSE
SUMMARY:Copper Enameling Workshop
DESCRIPTION:Enameling is one of the oldest arts in the history of man. It has been seen in art dating back to the first century B.C. in pieces of Greek sculpture that show areas of inlaid gold covered with a form of glaze\, enamel. In this workshop\, students will explore the ancient craft by creating their own jewelry. The process involves applying a thin coat of powdered glass to a metal\, then heating both to a high temperature so the glass melts and fuses to the metal. Colors can be mixed and matched to create unique pieces. Instructor Kathy Nelson
X-ALT-DESC;FMTTYPE=text/html:Enameling is one of the oldest arts in the history of man. It has been seen in art dating back to the first century B.C. in pieces of Greek sculpture that show areas of inlaid gold covered with a form of glaze\, enamel. In this workshop\, students will explore the ancient craft by creating their own jewelry. The process involves applying a thin coat of powdered glass to a metal\, then heating both to a high temperature so the glass melts and fuses to the metal. Colors can be mixed and matched to create unique pieces. Instructor Kathy Nelson
LOCATION:Colquitt County Arts Center 401 7th Avenue S.W. Moultrie\, GA 31768
UID:e.570.11259
SEQUENCE:3
DTSTAMP:20260424T140621Z
URL:http://business.moultriechamber.com/events/details/copper-enameling-workshop-11259
END:VEVENT

END:VCALENDAR
