BEGIN:VCALENDAR
VERSION:2.0
PRODID:-//ChamberMaster//Event Calendar 2.0//EN
METHOD:PUBLISH
X-PUBLISHED-TTL:P3D
REFRESH-INTERVAL:P3D
CALSCALE:GREGORIAN
BEGIN:VEVENT
DTSTART:20180709T143000Z
DTEND:20180712T163000Z
X-MICROSOFT-CDO-ALLDAYEVENT:FALSE
SUMMARY:Cooking with Connie
DESCRIPTION:Monday  Thursday July 9-12 10:30 pm   12:30 pm Open to ages 6-12 years old Minimum 6 Participants /Maximum 10 Participants $60 per child Instructor Connie Fritz Choice of water\, milk or chocolate milk to drink each day. Children will assist with prep work and light cooking\, setting the table\, and sharing a meal. They will create a recipe book as we go through the week. Monday Personal Pizzas and Cake Pops Pizzas with all the fixings- made just the way you like it! Everyone will enjoy making delicious cake pops! Tuesday Sammie Sushi's & S'more's Sandwich rollups with turkey or ham and variety of cheeses cut into sushi style bites with ranch\, honey mustard dipping sauces. Who doesn't like a s'more? Made in the oven using crescent rolls marshmallows and chocolate! Wednesday Tacos   soft and crunchy shells with all the fixings. Cupcakes for dessert- try your hand using cake decorating tools. Thursday Chicken and Veggie Stir Fry\, Yum Yum! Pick and choose your veggies to customize this delicious dish. Delicious Brownies and make your own ice cream in a bag! Sign up online at colquittcountyarts.com or visit our office.
X-ALT-DESC;FMTTYPE=text/html:Monday &ndash\;Thursday July 9-12 10:30 pm &ndash\; 12:30 pm Open to ages 6-12 years old Minimum 6 Participants /Maximum 10 Participants $60 per child Instructor Connie Fritz Choice of water\, milk or chocolate milk to drink each day. Children will assist with prep work and light cooking\, setting the table\, and sharing a meal. They will create a recipe book as we go through the week. Monday Personal Pizzas and Cake Pops Pizzas with all the fixings- made just the way you like it! Everyone will enjoy making delicious cake pops! Tuesday Sammie Sushi&rsquo\;s &amp\; S&rsquo\;more&rsquo\;s Sandwich rollups with turkey or ham and variety of cheeses cut into sushi style bites with ranch\, honey mustard dipping sauces. Who doesn&rsquo\;t like a s&rsquo\;more? Made in the oven using crescent rolls marshmallows and chocolate! Wednesday Tacos &ndash\; soft and crunchy shells with all the fixings. Cupcakes for dessert- try your hand using cake decorating tools. Thursday Chicken and Veggie Stir Fry\, Yum Yum! Pick and choose your veggies to customize this delicious dish. Delicious Brownies and make your own ice cream in a bag! Sign up online at colquittcountyarts.com or visit our office.
LOCATION:Colquitt County Arts Center 401 7th Avenue S.W. Moultrie\, GA 31768
UID:e.570.9283
SEQUENCE:3
DTSTAMP:20260426T042816Z
URL:http://business.moultriechamber.com/events/details/cooking-with-connie-9283
END:VEVENT

END:VCALENDAR
