BEGIN:VCALENDAR
VERSION:2.0
PRODID:-//ChamberMaster//Event Calendar 2.0//EN
METHOD:PUBLISH
X-PUBLISHED-TTL:P3D
REFRESH-INTERVAL:P3D
CALSCALE:GREGORIAN
BEGIN:VEVENT
DTSTART:20181015T213000Z
DTEND:20181015T230000Z
X-MICROSOFT-CDO-ALLDAYEVENT:FALSE
SUMMARY:Cooking with Connie
DESCRIPTION:Ages 6-10 Make a new and fun recipe every month with Connie Fritz! Students will assist with prep work and light cooking\, setting the table\, and sharing a meal. Biscuit Making Bring a mixing bowl\, regular size fork and a clean kitchen towel.
X-ALT-DESC;FMTTYPE=text/html:Ages 6-10 Make a new and fun recipe every month with Connie Fritz! Students will assist with prep work and light cooking\, setting the table\, and sharing a meal. Biscuit Making Bring a mixing bowl\, regular size fork and a clean kitchen towel.
LOCATION:Colquitt County Arts Center\, 401 7th Avenue S.W.\, Moultrie\, GA 31768
UID:e.570.9418
SEQUENCE:3
DTSTAMP:20260426T015929Z
URL:http://business.moultriechamber.com/events/details/cooking-with-connie-10-15-2018-9418
END:VEVENT

END:VCALENDAR
