BEGIN:VCALENDAR
VERSION:2.0
PRODID:-//ChamberMaster//Event Calendar 2.0//EN
METHOD:PUBLISH
X-PUBLISHED-TTL:P3D
REFRESH-INTERVAL:P3D
CALSCALE:GREGORIAN
BEGIN:VEVENT
DTSTART:20201107T140000Z
DTEND:20201107T170000Z
X-MICROSOFT-CDO-ALLDAYEVENT:FALSE
SUMMARY:Cookie Baking with Connie
DESCRIPTION:Grades 1st - 5th Join Connie Fritz in a cookie baking lesson for the holidays. Students will bake gingerbread cookies\, gluten-free chocolate chip\, and decorate sugar cookies.
X-ALT-DESC;FMTTYPE=text/html:Grades 1st - 5th Join Connie Fritz in a cookie baking lesson for the holidays. Students will bake gingerbread cookies\, gluten-free chocolate chip\, and decorate sugar cookies.
LOCATION:Colquitt County Arts Center 401 7th Avenue S.W. Moultrie\, GA 31768
UID:e.570.11210
SEQUENCE:3
DTSTAMP:20260424T162945Z
URL:http://business.moultriechamber.com/events/details/cookie-baking-with-connie-11210
END:VEVENT

END:VCALENDAR
