BEGIN:VCALENDAR
VERSION:2.0
PRODID:-//ChamberMaster//Event Calendar 2.0//EN
METHOD:PUBLISH
X-PUBLISHED-TTL:P3D
REFRESH-INTERVAL:P3D
CALSCALE:GREGORIAN
BEGIN:VEVENT
DTSTART:20211030T220000Z
DTEND:20211030T230000Z
X-MICROSOFT-CDO-ALLDAYEVENT:FALSE
SUMMARY:Community Wide "Thriller"
DESCRIPTION:Community Wide flash mob of "THRILLER" There will be choreography \, makeup and costuming workshops leading up to the event. Check the Arts Center Facebook page and website for more information as it is available.
X-ALT-DESC;FMTTYPE=text/html:Community Wide flash mob of &quot\;THRILLER&quot\; There will be choreography \, makeup and costuming workshops leading up to the event. Check the Arts Center Facebook page and website for more information as it is available.
LOCATION:Courthouse Square
UID:e.570.11263
SEQUENCE:3
DTSTAMP:20260424T031055Z
URL:http://business.moultriechamber.com/events/details/community-wide-thriller-11263
END:VEVENT

END:VCALENDAR
