BEGIN:VCALENDAR
VERSION:2.0
PRODID:-//ChamberMaster//Event Calendar 2.0//EN
METHOD:PUBLISH
X-PUBLISHED-TTL:P3D
REFRESH-INTERVAL:P3D
CALSCALE:GREGORIAN
BEGIN:VEVENT
DTSTART:20181112T130000Z
DTEND:20181115T220000Z
X-MICROSOFT-CDO-ALLDAYEVENT:FALSE
SUMMARY:Community Development Institute Southeast
DESCRIPTION:
X-ALT-DESC;FMTTYPE=text/html:
LOCATION:The University of Alabama Gadsden Center\, 121 N 1st Street\, Gadsden\, Alabama 35901
UID:e.570.9365
SEQUENCE:3
DTSTAMP:20260425T232855Z
URL:http://business.moultriechamber.com/events/details/community-development-institute-southeast-9365
END:VEVENT

END:VCALENDAR
