BEGIN:VCALENDAR
VERSION:2.0
PRODID:-//ChamberMaster//Event Calendar 2.0//EN
METHOD:PUBLISH
X-PUBLISHED-TTL:P3D
REFRESH-INTERVAL:P3D
CALSCALE:GREGORIAN
BEGIN:VEVENT
DTSTART:20181101T220000Z
DTEND:20181102T020000Z
X-MICROSOFT-CDO-ALLDAYEVENT:FALSE
SUMMARY:Colquitt Ducks Unlimited
DESCRIPTION:
X-ALT-DESC;FMTTYPE=text/html:
LOCATION:Colquitt County Arts Center
UID:e.570.9429
SEQUENCE:3
DTSTAMP:20260425T232901Z
URL:http://business.moultriechamber.com/events/details/colquitt-ducks-unlimited-9429
END:VEVENT

END:VCALENDAR
