BEGIN:VCALENDAR
VERSION:2.0
PRODID:-//ChamberMaster//Event Calendar 2.0//EN
METHOD:PUBLISH
X-PUBLISHED-TTL:P3D
REFRESH-INTERVAL:P3D
CALSCALE:GREGORIAN
BEGIN:VEVENT
DTSTART:20210622T213000Z
DTEND:20210622T223000Z
X-MICROSOFT-CDO-ALLDAYEVENT:FALSE
SUMMARY:Colquitt County Ukulele Club
DESCRIPTION:Love the uke or want to learn? Join us for a community jam session! Check out one of our ukes or bring your own. Ages 6 and up\, all skill levels welcome. Beginners can come at 5:00 p.m. for a quick starter lesson before the meeting begins.
X-ALT-DESC;FMTTYPE=text/html:Love the uke or want to learn? Join us for a community jam session! Check out one of our ukes or bring your own. Ages 6 and up\, all skill levels welcome. Beginners can come at 5:00 p.m. for a quick starter lesson before the meeting begins.
LOCATION:Moultrie- Colquitt County Library 204 5th St.\, SE Moultrie\, GA
UID:e.570.11468
SEQUENCE:3
DTSTAMP:20260424T075855Z
URL:http://business.moultriechamber.com/events/details/colquitt-county-ukulele-club-11468
END:VEVENT

END:VCALENDAR
