BEGIN:VCALENDAR
VERSION:2.0
PRODID:-//ChamberMaster//Event Calendar 2.0//EN
METHOD:PUBLISH
X-PUBLISHED-TTL:P3D
REFRESH-INTERVAL:P3D
CALSCALE:GREGORIAN
BEGIN:VEVENT
DTSTART:20181207T003000Z
DTEND:20181207T020000Z
X-MICROSOFT-CDO-ALLDAYEVENT:FALSE
SUMMARY:Colquitt County Men's Choir Christmas Concert
DESCRIPTION:Come celebrate the Christmas season as you listen to the Colquitt County Men's Choir in concert!
X-ALT-DESC;FMTTYPE=text/html:Come celebrate the Christmas season as you listen to the Colquitt County Men&#39\;s Choir in concert!
LOCATION:TBD
UID:e.570.9445
SEQUENCE:3
DTSTAMP:20260425T220422Z
URL:http://business.moultriechamber.com/events/details/colquitt-county-men-s-choir-christmas-concert-9445
END:VEVENT

END:VCALENDAR
