BEGIN:VCALENDAR
VERSION:2.0
PRODID:-//ChamberMaster//Event Calendar 2.0//EN
METHOD:PUBLISH
X-PUBLISHED-TTL:P3D
REFRESH-INTERVAL:P3D
CALSCALE:GREGORIAN
BEGIN:VEVENT
DTSTART:20240514T213000Z
DTEND:20240514T230000Z
X-MICROSOFT-CDO-ALLDAYEVENT:FALSE
SUMMARY:Colquitt County Farm to Table
DESCRIPTION:You're cordially invited to join us for an enchanting Colquitt County Farm to Table dinner\, graciously hosted by our Agricultural & Rural Services Committee. We're thrilled to present an evening celebrating the vibrant flavors of our local community! We are highlighting the essence of our county\, our menu boasts locally sourced beef\, chicken\, fresh fruits\, vegetables\, and a selection of fine local wines.
X-ALT-DESC;FMTTYPE=text/html:<span style="font-family:times new roman\;"><span style="font-size:16px\;">You&#39\;re cordially invited to join us for an enchanting Colquitt County Farm to Table dinner\, graciously hosted by our Agricultural &amp\; Rural Services Committee. We&#39\;re thrilled to present an evening celebrating the vibrant flavors of our local community! We are highlighting the essence of our county\, our menu boasts locally sourced beef\, chicken\, fresh fruits\, vegetables\, and a selection of fine local wines.&nbsp\;</span></span><br />\n&nbsp\;
LOCATION:Gin Creek Plantation 251 Demott Rd\, Hartsfield\, GA 31756
UID:e.570.13258
SEQUENCE:3
DTSTAMP:20260422T131717Z
URL:http://business.moultriechamber.com/events/details/colquitt-county-farm-to-table-13258
END:VEVENT

END:VCALENDAR
