BEGIN:VCALENDAR
VERSION:2.0
PRODID:-//ChamberMaster//Event Calendar 2.0//EN
METHOD:PUBLISH
X-PUBLISHED-TTL:P3D
REFRESH-INTERVAL:P3D
CALSCALE:GREGORIAN
BEGIN:VEVENT
DTSTART:20201006T230000Z
DTEND:20201006T230000Z
X-MICROSOFT-CDO-ALLDAYEVENT:FALSE
SUMMARY:Colquitt County Commissioners Meeting
DESCRIPTION:
X-ALT-DESC;FMTTYPE=text/html:<br />\n&nbsp\;
LOCATION:Room 201 Courthouse Annex 101 East Central Avenue
UID:e.570.2134
SEQUENCE:3
DTSTAMP:20260420T035613Z
URL:http://business.moultriechamber.com/events/details/colquitt-county-commissioners-meeting-10-06-2020-2134
END:VEVENT

END:VCALENDAR
