BEGIN:VCALENDAR
VERSION:2.0
PRODID:-//ChamberMaster//Event Calendar 2.0//EN
METHOD:PUBLISH
X-PUBLISHED-TTL:P3D
REFRESH-INTERVAL:P3D
CALSCALE:GREGORIAN
BEGIN:VEVENT
DTSTART:20190815T233000Z
DTEND:20190816T003000Z
X-MICROSOFT-CDO-ALLDAYEVENT:FALSE
SUMMARY:Colquitt Co. Men's Choir Concert
DESCRIPTION:Colquitt Co. Men's Choir Summer Concert
X-ALT-DESC;FMTTYPE=text/html:Colquitt Co. Men&#39\;s Choir Summer Concert
LOCATION:First United Methodist Church
UID:e.570.9583
SEQUENCE:3
DTSTAMP:20260425T114650Z
URL:http://business.moultriechamber.com/events/details/colquitt-co-men-s-choir-concert-9583
END:VEVENT

END:VCALENDAR
