BEGIN:VCALENDAR
VERSION:2.0
PRODID:-//ChamberMaster//Event Calendar 2.0//EN
METHOD:PUBLISH
X-PUBLISHED-TTL:P3D
REFRESH-INTERVAL:P3D
CALSCALE:GREGORIAN
BEGIN:VEVENT
DTSTART:20181013T120000Z
DTEND:20181013T140000Z
X-MICROSOFT-CDO-ALLDAYEVENT:FALSE
SUMMARY:Colquitt Christian Academy's 3rd Annual Pumpkin Patch 5K and Children's Race
DESCRIPTION:Colquitt Christian Academy (CCA) is hosting its third annual Pumpkin Patch 5K and Children's Race! As we continue into our 4th year (founded in 2015)\, CCA relies heavily on community support and outside donations to operate and provide an exceptional classical Christian education to students. Join us on October 13th for the 5K beginning at 8am & Children's Race at 9am! Family friendly costumes are welcome! Fun for all ages & activity levels\, including: student inspired pumpkin characters\, fantastic door prizes supplied by local merchants\, pumpkins available for sale\, festive games & activities for children\, face painting & FREE breakfast for race participants provided by Chick-fil-A! REGISTER ONLINE AT www.event-tech.com TODAY!
X-ALT-DESC;FMTTYPE=text/html:Colquitt Christian Academy (CCA) is hosting its third annual Pumpkin Patch 5K and Children&#39\;s Race! As we continue into our 4th year (founded in 2015)\, CCA relies heavily on community support and outside donations to operate and provide an exceptional classical Christian education to students. Join us on October 13th for the 5K beginning at 8am &amp\; Children&#39\;s Race at 9am! Family friendly costumes are welcome! Fun for all ages &amp\; activity levels\, including: student inspired pumpkin characters\, fantastic door prizes supplied by local merchants\, pumpkins available for sale\, festive games &amp\; activities for children\, face painting &amp\; FREE breakfast for race participants provided by Chick-fil-A! REGISTER ONLINE AT www.event-tech.com TODAY!
LOCATION:Calvary Baptist Church\, 830 26th Avenue SE\, Moultrie\, GA 31768
UID:e.570.9427
SEQUENCE:3
DTSTAMP:20260426T021410Z
URL:http://business.moultriechamber.com/events/details/colquitt-christian-academy-s-3rd-annual-pumpkin-patch-5k-and-children-s-race-9427
END:VEVENT

END:VCALENDAR
