BEGIN:VCALENDAR
VERSION:2.0
PRODID:-//ChamberMaster//Event Calendar 2.0//EN
METHOD:PUBLISH
X-PUBLISHED-TTL:P3D
REFRESH-INTERVAL:P3D
CALSCALE:GREGORIAN
BEGIN:VEVENT
DTSTART:20190308T220000Z
DTEND:20190309T000000Z
X-MICROSOFT-CDO-ALLDAYEVENT:FALSE
SUMMARY:Colquitt Christian Academy 4th Annual Pork Chop Dinner
DESCRIPTION:Colquitt Christian Academy (CCA) is excited to announce its fourth Annual Pork Chop Dinner! The delicious homemade dinner will include scrumptious smoked pork chops\, green beans\, scalloped potatoes\, a dinner roll and homemade pound cake. Founded in 2015\, CCA strives to provide an exceptional classical Christian education to students. The school encourages every student to develop a love for learning and live up to their full academic potential.
X-ALT-DESC;FMTTYPE=text/html:Colquitt Christian Academy (CCA) is excited to announce its fourth Annual Pork Chop Dinner! The delicious homemade dinner will include scrumptious smoked pork chops\, green beans\, scalloped potatoes\, a dinner roll and homemade pound cake. Founded in 2015\, CCA strives to provide an exceptional classical Christian education to students. The school encourages every student to develop a love for learning and live up to their full academic potential.
LOCATION:First Baptist Church 400 South Main Street Moultrie\, GA 31768
UID:e.570.9477
SEQUENCE:3
DTSTAMP:20260425T175328Z
URL:http://business.moultriechamber.com/events/details/colquitt-christian-academy-4th-annual-pork-chop-dinner-9477
END:VEVENT

END:VCALENDAR
