BEGIN:VCALENDAR
VERSION:2.0
PRODID:-//ChamberMaster//Event Calendar 2.0//EN
METHOD:PUBLISH
X-PUBLISHED-TTL:P3D
REFRESH-INTERVAL:P3D
CALSCALE:GREGORIAN
BEGIN:VEVENT
DTSTART:20210218T213000Z
DTEND:20210218T223000Z
X-MICROSOFT-CDO-ALLDAYEVENT:FALSE
SUMMARY:Color Mixology 101
DESCRIPTION:Take a journey on the color wheel. Each artist will explore the methods to create any color they wish with watercolors. Knowing how to create color is a necessity in all colorful arts and can be beneficial in enhancing your own artwork. Instructor Rio Davies Thursday\, February 18th 4:30 pm   5:30 pm Open to ALL ages $25 all supplies provided
X-ALT-DESC;FMTTYPE=text/html:Take a journey on the color wheel. Each artist will explore the methods to create any color they wish with watercolors. Knowing how to create color is a necessity in all colorful arts and can be beneficial in enhancing your own artwork. Instructor Rio Davies Thursday\, February 18th 4:30 pm &ndash\; 5:30 pm Open to ALL ages $25 all supplies provided
LOCATION:Colquitt County Arts Center 401 7th Avenue S.W. Moultrie\, GA 31768
UID:e.570.11287
SEQUENCE:3
DTSTAMP:20260424T124308Z
URL:http://business.moultriechamber.com/events/details/color-mixology-101-11287
END:VEVENT

END:VCALENDAR
