BEGIN:VCALENDAR
VERSION:2.0
PRODID:-//ChamberMaster//Event Calendar 2.0//EN
METHOD:PUBLISH
X-PUBLISHED-TTL:P3D
REFRESH-INTERVAL:P3D
CALSCALE:GREGORIAN
BEGIN:VEVENT
DTSTART:20181019T220000Z
DTEND:20181021T010000Z
X-MICROSOFT-CDO-ALLDAYEVENT:FALSE
SUMMARY:Coiling with Pine Needles
DESCRIPTION:Pine Needle Basket   Make a 3-4 inch pine needle basket using a ceramic center of your choice. Learn the ancient art of coiling with pine needles in one of two classes to be offered. This technique is easy and relaxing. If you can hand sew\, you can coil with pine needles. Instructor Viriginia Lowman
X-ALT-DESC;FMTTYPE=text/html:Pine Needle Basket &ndash\; Make a 3-4 inch pine needle basket using a ceramic center of your choice. Learn the ancient art of coiling with pine needles in one of two classes to be offered. This technique is easy and relaxing. If you can hand sew\, you can coil with pine needles. Instructor Viriginia Lowman
LOCATION:Colquitt County Arts Center\, 401 7th Avenue S.W.\, Moultrie\, GA 31768
UID:e.570.9420
SEQUENCE:3
DTSTAMP:20260426T004144Z
URL:http://business.moultriechamber.com/events/details/coiling-with-pine-needles-9420
END:VEVENT

END:VCALENDAR
