BEGIN:VCALENDAR
VERSION:2.0
PRODID:-//ChamberMaster//Event Calendar 2.0//EN
METHOD:PUBLISH
X-PUBLISHED-TTL:P3D
REFRESH-INTERVAL:P3D
CALSCALE:GREGORIAN
BEGIN:VEVENT
DTSTART:20210319T130000Z
DTEND:20210319T140000Z
X-MICROSOFT-CDO-ALLDAYEVENT:FALSE
SUMMARY:Coffee & Conversation
DESCRIPTION:Join us as we go live on our Facebook page for the next episode of our new virtual series-Coffee & Conversation!\n\n\n\nEach episode there will be 10-15 minutes of conversation about different topics that will benefit the business community as well as citizens of Colquitt County.\n\n\n\nThis month\, Jena Willis from Southern Regional Technical College will be join us to talk about Continuing Education & Professional Development! Make sure to leave a comment if you have any questions for her!\n\n\n\nLike\, Comment\, and Share to let us know you are there!\n\n#TeamChamber\n\n#ColquittCountyStrongerTogether\n\n#CoffeeAndConversation
X-ALT-DESC;FMTTYPE=text/html:Join us as we go live on our Facebook page for the next episode of our new virtual series-Coffee &amp\; Conversation!<br />\n<br />\nEach episode there will be 10-15 minutes of conversation about different topics that will benefit the business community as well as citizens of Colquitt County.<br />\n<br />\nThis month\, Jena Willis from Southern Regional Technical College will be join us to talk about Continuing Education &amp\; Professional Development! Make sure to leave a comment if you have any questions for her!<br />\n<br />\nLike\, Comment\, and Share to let us know you are there!<br />\n#TeamChamber<br />\n#ColquittCountyStrongerTogether<br />\n#CoffeeAndConversation
LOCATION:Virtual on Facebook (@MoultrieChamber) and YouTube (Moultrie-Colquitt County Chamber of Commerce).
UID:e.570.11337
SEQUENCE:3
DTSTAMP:20260424T112859Z
URL:http://business.moultriechamber.com/events/details/coffee-conversation-11337
END:VEVENT

END:VCALENDAR
