BEGIN:VCALENDAR
VERSION:2.0
PRODID:-//ChamberMaster//Event Calendar 2.0//EN
METHOD:PUBLISH
X-PUBLISHED-TTL:P3D
REFRESH-INTERVAL:P3D
CALSCALE:GREGORIAN
BEGIN:VEVENT
DTSTART:20210416T130000Z
DTEND:20210416T140000Z
X-MICROSOFT-CDO-ALLDAYEVENT:FALSE
SUMMARY:Coffee & Conversation
DESCRIPTION:Join us as we go live on our Facebook & YouTube pages for the next episode of Coffee & Conversation! Each episode there will be 10-15 minutes of conversation about different topics that will benefit the business community as well as citizens of Colquitt County. April is National Volunteer Month\, so we will have Caroline Horne\, Director of United Way of Colquitt County\, joining us to talk about non-profits & the importance of volunteering! Make sure to leave a comment if you have any questions for her! Like\, Comment\, and Share to let us know you are there! #TeamChamber #ColquittCountyStrongerTogether #CoffeeAndConversation
X-ALT-DESC;FMTTYPE=text/html:Join us as we go live on our Facebook &amp\; YouTube pages for the next episode of Coffee &amp\; Conversation! Each episode there will be 10-15 minutes of conversation about different topics that will benefit the business community as well as citizens of Colquitt County. April is National Volunteer Month\, so we will have Caroline Horne\, Director of United Way of Colquitt County\, joining us to talk about non-profits &amp\; the importance of volunteering! Make sure to leave a comment if you have any questions for her! Like\, Comment\, and Share to let us know you are there! #TeamChamber #ColquittCountyStrongerTogether #CoffeeAndConversation
LOCATION:Facebook (@MoultrieChamber) YouTube (@Moultrie Colquitt County Chamber of Commerce)
UID:e.570.11369
SEQUENCE:3
DTSTAMP:20260424T102756Z
URL:http://business.moultriechamber.com/events/details/coffee-conversation-04-16-2021-11369
END:VEVENT

END:VCALENDAR
