BEGIN:VCALENDAR
VERSION:2.0
PRODID:-//ChamberMaster//Event Calendar 2.0//EN
METHOD:PUBLISH
X-PUBLISHED-TTL:P3D
REFRESH-INTERVAL:P3D
CALSCALE:GREGORIAN
BEGIN:VEVENT
DTSTART:20190723T113000Z
DTEND:20190723T124500Z
X-MICROSOFT-CDO-ALLDAYEVENT:FALSE
SUMMARY:Coffee & Commerce- July
DESCRIPTION:Join us for free coffee & doughnuts! This is a great way to get your day started while making new connections with other businesses in the community!
X-ALT-DESC;FMTTYPE=text/html:Join us for free coffee &amp\; doughnuts! This is a great way to get your day started while making new connections with other businesses in the community!
LOCATION:Beans & Strings (Downtown Location) 19 1st Street SE Moultrie\, GA
UID:e.570.9569
SEQUENCE:3
DTSTAMP:20260425T125611Z
URL:http://business.moultriechamber.com/events/details/coffee-commerce-july-9569
END:VEVENT

END:VCALENDAR
