BEGIN:VCALENDAR
VERSION:2.0
PRODID:-//ChamberMaster//Event Calendar 2.0//EN
METHOD:PUBLISH
X-PUBLISHED-TTL:P3D
REFRESH-INTERVAL:P3D
CALSCALE:GREGORIAN
BEGIN:VEVENT
DTSTART:20200416T113000Z
DTEND:20200416T124500Z
X-MICROSOFT-CDO-ALLDAYEVENT:FALSE
SUMMARY:Coffee & Commerce
DESCRIPTION:Meet. Mingle. Make Connections.\n\n\n\nJoin us for a morning of coffee\, doughnuts\, and networking!\n\n\n\n#TeamChamber
X-ALT-DESC;FMTTYPE=text/html:Meet. Mingle. Make Connections.<br />\n<br />\nJoin us for a morning of coffee\, doughnuts\, and networking!<br />\n<br />\n#TeamChamber
LOCATION:Beans & Strings 19 1st Street SE
UID:e.570.11110
SEQUENCE:3
DTSTAMP:20260425T010325Z
URL:http://business.moultriechamber.com/events/details/coffee-commerce-january-2020-04-16-2020-11110
END:VEVENT

END:VCALENDAR
