BEGIN:VCALENDAR
VERSION:2.0
PRODID:-//ChamberMaster//Event Calendar 2.0//EN
METHOD:PUBLISH
X-PUBLISHED-TTL:P3D
REFRESH-INTERVAL:P3D
CALSCALE:GREGORIAN
BEGIN:VEVENT
DTSTART:20190618T113000Z
DTEND:20190618T124500Z
X-MICROSOFT-CDO-ALLDAYEVENT:FALSE
SUMMARY:Coffee and Commerce- June
DESCRIPTION:Join us for coffee\, doughnuts\, and networking!
X-ALT-DESC;FMTTYPE=text/html:Join us for coffee\, doughnuts\, and networking!
LOCATION:Downtown Beans and Strings 19 1st Street SE
UID:e.570.9566
SEQUENCE:3
DTSTAMP:20260425T152321Z
URL:http://business.moultriechamber.com/events/details/coffee-and-commerce-june-9566
END:VEVENT

END:VCALENDAR
