BEGIN:VCALENDAR
VERSION:2.0
PRODID:-//ChamberMaster//Event Calendar 2.0//EN
METHOD:PUBLISH
X-PUBLISHED-TTL:P3D
REFRESH-INTERVAL:P3D
CALSCALE:GREGORIAN
BEGIN:VEVENT
DTSTART:20190416T113000Z
DTEND:20190416T124500Z
X-MICROSOFT-CDO-ALLDAYEVENT:FALSE
SUMMARY:Coffee and Commerce- April
DESCRIPTION:Join us for our next Coffee and Commerce on April 16th from 7:30am-8:45am at Beans and Strings on the Square.
X-ALT-DESC;FMTTYPE=text/html:Join us for our next Coffee and Commerce on April 16th from 7:30am-8:45am at Beans and Strings on the Square.
LOCATION:Beans and Strings on the Square- 19 1st Street\, Moultire
UID:e.570.9541
SEQUENCE:3
DTSTAMP:20260425T164027Z
URL:http://business.moultriechamber.com/events/details/coffee-and-commerce-april-9541
END:VEVENT

END:VCALENDAR
