BEGIN:VCALENDAR
VERSION:2.0
PRODID:-//ChamberMaster//Event Calendar 2.0//EN
METHOD:PUBLISH
X-PUBLISHED-TTL:P3D
REFRESH-INTERVAL:P3D
CALSCALE:GREGORIAN
BEGIN:VEVENT
DTSTART:20210828T120000Z
DTEND:20210828T170000Z
X-MICROSOFT-CDO-ALLDAYEVENT:FALSE
SUMMARY:Clays For Strays Skeet Shoot
DESCRIPTION:Skeet shoot fundraiser for the Moultrie-Colquitt County Humane Society to raise funds to support the operational needs of the shelter and to allow for the continued care of the unwanted animals of our community. All skill levels welcome. Clays will be provided\, but shooter will supply own shells.
X-ALT-DESC;FMTTYPE=text/html:Skeet shoot fundraiser for the Moultrie-Colquitt County Humane Society to raise funds to support the operational needs of the shelter and to allow for the continued care of the unwanted animals of our community. All skill levels welcome. Clays will be provided\, but shooter will supply own shells.
LOCATION:Boggy Pond Plantation. 1084 Lanier Rd Moultrie\, GA 31788
UID:e.570.11600
SEQUENCE:3
DTSTAMP:20260424T055524Z
URL:http://business.moultriechamber.com/events/details/clays-for-strays-skeet-shoot-11600
END:VEVENT

END:VCALENDAR
