BEGIN:VCALENDAR
VERSION:2.0
PRODID:-//ChamberMaster//Event Calendar 2.0//EN
METHOD:PUBLISH
X-PUBLISHED-TTL:P3D
REFRESH-INTERVAL:P3D
CALSCALE:GREGORIAN
BEGIN:VEVENT
DTSTART:20190903T220000Z
DTEND:20190903T230000Z
X-MICROSOFT-CDO-ALLDAYEVENT:FALSE
SUMMARY:City Council Meeting
DESCRIPTION:
X-ALT-DESC;FMTTYPE=text/html:
LOCATION:City Hall Council Chambers
UID:e.570.2013
SEQUENCE:3
DTSTAMP:20260423T172725Z
URL:http://business.moultriechamber.com/events/details/city-council-meeting-09-03-2019-2013
END:VEVENT

END:VCALENDAR
