BEGIN:VCALENDAR
VERSION:2.0
PRODID:-//ChamberMaster//Event Calendar 2.0//EN
METHOD:PUBLISH
X-PUBLISHED-TTL:P3D
REFRESH-INTERVAL:P3D
CALSCALE:GREGORIAN
BEGIN:VEVENT
DTSTART:20210926T140000Z
DTEND:20210926T160000Z
X-MICROSOFT-CDO-ALLDAYEVENT:FALSE
SUMMARY:Church in the Park
DESCRIPTION:EXCITED TO PARTICIPATE IN AN OUTDOOR SERVICE THIS SUNDAY\, SEP 26TH @ 10AM LOCATION: Main Street Park\, 1220 S Main St.\, Moultrie\, GA 31768 CHURCHES PARTICIPATING: - Greater Believers Worship Center - Pastor Benjie T. Nobles (Moultrie) - Holy Grounds International Ministry - Apostle Roger Spicer (Camilla) - Throne of David Church - Pastor Thomas Washington (Camilla) We welcome all that would like to join us as we come together to worship. This has been a vision of mine for 5+ years and I am so excited that God has aligned me with relationships with other men of God that desire UNITY in the BODY of Christ! Please share to get the word out. Bring a chair and a desire to worship. God bless\, I look forward to seeing you this Sunday. ~Pastor Frankie Cadenhead
X-ALT-DESC;FMTTYPE=text/html:EXCITED TO PARTICIPATE IN AN OUTDOOR SERVICE THIS SUNDAY\, SEP 26TH @ 10AM LOCATION: Main Street Park\, 1220 S Main St.\, Moultrie\, GA 31768 CHURCHES PARTICIPATING: - Greater Believers Worship Center - Pastor Benjie T. Nobles (Moultrie) - Holy Grounds International Ministry - Apostle Roger Spicer (Camilla) - Throne of David Church - Pastor Thomas Washington (Camilla) We welcome all that would like to join us as we come together to worship. This has been a vision of mine for 5+ years and I am so excited that God has aligned me with relationships with other men of God that desire UNITY in the BODY of Christ! Please share to get the word out. Bring a chair and a desire to worship. God bless\, I look forward to seeing you this Sunday. ~Pastor Frankie Cadenhead
LOCATION:Main Street Park\, 1220 S Main St.\, Moultrie\, GA 31768
UID:e.570.11952
SEQUENCE:3
DTSTAMP:20260424T042851Z
URL:http://business.moultriechamber.com/events/details/church-in-the-park-11952
END:VEVENT

END:VCALENDAR
