BEGIN:VCALENDAR
VERSION:2.0
PRODID:-//ChamberMaster//Event Calendar 2.0//EN
METHOD:PUBLISH
X-PUBLISHED-TTL:P3D
REFRESH-INTERVAL:P3D
CALSCALE:GREGORIAN
BEGIN:VEVENT
DTSTART:20201212T140000Z
DTEND:20201212T170000Z
X-MICROSOFT-CDO-ALLDAYEVENT:FALSE
SUMMARY:Children’s Gift Workshop
DESCRIPTION:Grades 1st - 5th Instructor Connie Fritz Children will complete up to three gifts to share with a teacher\, friend or family member.
X-ALT-DESC;FMTTYPE=text/html:Grades 1st - 5th Instructor Connie Fritz Children will complete up to three gifts to share with a teacher\, friend or family member.
LOCATION:Colquitt County Arts Center 401 7th Avenue S.W. Moultrie\, GA 31768
UID:e.570.11211
SEQUENCE:3
DTSTAMP:20260424T151925Z
URL:http://business.moultriechamber.com/events/details/children-s-gift-workshop-11211
END:VEVENT

END:VCALENDAR
