BEGIN:VCALENDAR
VERSION:2.0
PRODID:-//ChamberMaster//Event Calendar 2.0//EN
METHOD:PUBLISH
X-PUBLISHED-TTL:P3D
REFRESH-INTERVAL:P3D
CALSCALE:GREGORIAN
BEGIN:VEVENT
DTSTART:20220722T160000Z
DTEND:20220722T160000Z
X-MICROSOFT-CDO-ALLDAYEVENT:FALSE
SUMMARY:Chehaw-Pets c WIlds
DESCRIPTION:Animals can be so wonderful and amazing\, but not all animals make great pets. There are reasons we don?t all have lions\, monkeys\, or raccoons at home. Students will learn the reasons that some animals make great pets and why other animals are best left in the wild.
X-ALT-DESC;FMTTYPE=text/html:Animals can be so wonderful and amazing\, but not all animals make great pets. There are reasons we don?t all have lions\, monkeys\, or raccoons at home. Students will learn the reasons that some animals make great pets and why other animals are best left in the wild. 
LOCATION:Main Street Park
UID:e.570.12939
SEQUENCE:3
DTSTAMP:20260423T154929Z
URL:http://business.moultriechamber.com/events/details/chehaw-pets-c-wilds-12939
END:VEVENT

END:VCALENDAR
