BEGIN:VCALENDAR
VERSION:2.0
PRODID:-//ChamberMaster//Event Calendar 2.0//EN
METHOD:PUBLISH
X-PUBLISHED-TTL:P3D
REFRESH-INTERVAL:P3D
CALSCALE:GREGORIAN
BEGIN:VEVENT
DTSTART:20220622T140000Z
DTEND:20220622T150000Z
X-MICROSOFT-CDO-ALLDAYEVENT:FALSE
SUMMARY:Chehaw Animal ABC'S
DESCRIPTION:This MCCPRA program is an introduction to animals and their basic needs as a living organism. Children will use their five senses to compare and contrast different types of animals and their life cycles.
X-ALT-DESC;FMTTYPE=text/html:This MCCPRA program is an introduction to animals and their basic needs as a living organism. Children will use their five senses to compare and contrast different types of animals and their life cycles.
LOCATION:Main Street Park
UID:e.570.12933
SEQUENCE:3
DTSTAMP:20260423T165709Z
URL:http://business.moultriechamber.com/events/details/chehaw-animal-abc-s-12933
END:VEVENT

END:VCALENDAR
