BEGIN:VCALENDAR
VERSION:2.0
PRODID:-//ChamberMaster//Event Calendar 2.0//EN
METHOD:PUBLISH
X-PUBLISHED-TTL:P3D
REFRESH-INTERVAL:P3D
CALSCALE:GREGORIAN
BEGIN:VEVENT
DTSTART:20180822T130000Z
DTEND:20180822T160000Z
X-MICROSOFT-CDO-ALLDAYEVENT:FALSE
SUMMARY:Chamber of Commerce Career Fair
DESCRIPTION:Bring your resume and connect with local businesses who are currently seeking valuable employees! Hosted by the Moultrie - Colquitt County Chamber of Commerce
X-ALT-DESC;FMTTYPE=text/html:Bring your resume and connect with local businesses who are currently seeking valuable employees! Hosted by the Moultrie - Colquitt County Chamber of Commerce
LOCATION:Southwest Georgia Community Action Council 912 1st Avenue SE Moultrie\, Georgia
UID:e.570.9315
SEQUENCE:3
DTSTAMP:20260426T032620Z
URL:http://business.moultriechamber.com/events/details/chamber-of-commerce-career-fair-9315
END:VEVENT

END:VCALENDAR
