BEGIN:VCALENDAR
VERSION:2.0
PRODID:-//ChamberMaster//Event Calendar 2.0//EN
METHOD:PUBLISH
X-PUBLISHED-TTL:P3D
REFRESH-INTERVAL:P3D
CALSCALE:GREGORIAN
BEGIN:VEVENT
DTSTART:20180814T213000Z
DTEND:20180814T230000Z
X-MICROSOFT-CDO-ALLDAYEVENT:FALSE
SUMMARY:Chamber Business After Hours - Tallokas Road / Thomas Supply / Henry's Table Manners
DESCRIPTION:Meet\, Mingle\, & Make Connections! Come to our unique networking opportunity hosted by Tallokas Road\, Thomas Supply\, and Henry's Table Manners. Our Business After Hours event will be held in August at their shared location on 1st Ave. Join us for a chance to win door prizes or maybe even Colquitt Ca$h!
X-ALT-DESC;FMTTYPE=text/html:Meet\, Mingle\, &amp\; Make Connections! Come to our unique networking opportunity hosted by Tallokas Road\, Thomas Supply\, and Henry&#39\;s Table Manners. Our Business After Hours event will be held in August at their shared location on 1st Ave. Join us for a chance to win door prizes or maybe even Colquitt Ca$h!
LOCATION:Tallokas Road / Thomas Supply / Henry's Table Manners 1600 1st Ave SE Moultrie\, GA 31768
UID:e.570.9217
SEQUENCE:3
DTSTAMP:20260426T032620Z
URL:http://business.moultriechamber.com/events/details/chamber-business-after-hours-tallokas-road-thomas-supply-henry-s-table-manners-9217
END:VEVENT

END:VCALENDAR
