BEGIN:VCALENDAR
VERSION:2.0
PRODID:-//ChamberMaster//Event Calendar 2.0//EN
METHOD:PUBLISH
X-PUBLISHED-TTL:P3D
REFRESH-INTERVAL:P3D
CALSCALE:GREGORIAN
BEGIN:VEVENT
DTSTART:20180911T213000Z
DTEND:20180911T230000Z
X-MICROSOFT-CDO-ALLDAYEVENT:FALSE
SUMMARY:Chamber Business After Hours - GA Metals
DESCRIPTION:Meet\, Mingle\, & Make Connections! Come to our unique networking opportunity hosted by Georgia Metals. Our Business After Hours event will be held in September at the Sunset Country Club. Join us for a chance to win door prizes or maybe even Colquitt Ca$h!
X-ALT-DESC;FMTTYPE=text/html:Meet\, Mingle\, &amp\; Make Connections! Come to our unique networking opportunity hosted by Georgia Metals. Our Business After Hours event will be held in September at the Sunset Country Club. Join us for a chance to win door prizes or maybe even Colquitt Ca$h!
LOCATION:Sunset Country Club\, 2730 South Main Street\, Moultrie\, GA 31768
UID:e.570.9218
SEQUENCE:3
DTSTAMP:20260426T021221Z
URL:http://business.moultriechamber.com/events/details/chamber-business-after-hours-ga-metals-9218
END:VEVENT

END:VCALENDAR
