BEGIN:VCALENDAR
VERSION:2.0
PRODID:-//ChamberMaster//Event Calendar 2.0//EN
METHOD:PUBLISH
X-PUBLISHED-TTL:P3D
REFRESH-INTERVAL:P3D
CALSCALE:GREGORIAN
BEGIN:VEVENT
DTSTART:20181113T223000Z
DTEND:20181114T000000Z
X-MICROSOFT-CDO-ALLDAYEVENT:FALSE
SUMMARY:Chamber Business After Hours - Friends of Reed Bingham State Park
DESCRIPTION:Meet\, Mingle\, & Make Connections! Come to our unique networking opportunity hosted by our Friends of Reed Bingham State Park. Our Business After Hours event will be held in November at the park. Join us for a chance to win door prizes or maybe even Colquitt Ca$h!
X-ALT-DESC;FMTTYPE=text/html:Meet\, Mingle\, &amp\; Make Connections! Come to our unique networking opportunity hosted by our Friends of Reed Bingham State Park. Our Business After Hours event will be held in November at the park. Join us for a chance to win door prizes or maybe even Colquitt Ca$h!
LOCATION:Reed Bingham State Park\, 542 Reed Bingham Road\, Adel\, GA 31620
UID:e.570.9220
SEQUENCE:3
DTSTAMP:20260425T234205Z
URL:http://business.moultriechamber.com/events/details/chamber-business-after-hours-friends-of-reed-bingham-state-park-9220
END:VEVENT

END:VCALENDAR
