BEGIN:VCALENDAR
VERSION:2.0
PRODID:-//ChamberMaster//Event Calendar 2.0//EN
METHOD:PUBLISH
X-PUBLISHED-TTL:P3D
REFRESH-INTERVAL:P3D
CALSCALE:GREGORIAN
BEGIN:VEVENT
DTSTART:20181009T213000Z
DTEND:20181009T230000Z
X-MICROSOFT-CDO-ALLDAYEVENT:FALSE
SUMMARY:Chamber Business After Hours - Arts Center
DESCRIPTION:Meet\, Mingle\, & Make Connections! Come to our unique networking opportunity hosted by the Colquitt County Arts Center. Our Business After Hours event will be held in October at their location on 7th Ave. Join us for a chance to win door prizes or maybe even Colquitt Ca$h!
X-ALT-DESC;FMTTYPE=text/html:Meet\, Mingle\, &amp\; Make Connections! Come to our unique networking opportunity hosted by the Colquitt County Arts Center. Our Business After Hours event will be held in October at their location on 7th Ave. Join us for a chance to win door prizes or maybe even Colquitt Ca$h!
LOCATION:Colquitt County Arts Center 401 7th Ave SW Moultrie\, GA 31768
UID:e.570.9219
SEQUENCE:3
DTSTAMP:20260426T005252Z
URL:http://business.moultriechamber.com/events/details/chamber-business-after-hours-10-09-2018-9219
END:VEVENT

END:VCALENDAR
