BEGIN:VCALENDAR
VERSION:2.0
PRODID:-//ChamberMaster//Event Calendar 2.0//EN
METHOD:PUBLISH
X-PUBLISHED-TTL:P3D
REFRESH-INTERVAL:P3D
CALSCALE:GREGORIAN
BEGIN:VEVENT
DTSTART:20181002T223000Z
DTEND:20181003T000000Z
X-MICROSOFT-CDO-ALLDAYEVENT:FALSE
SUMMARY:Ceramic Lace Doily Platter
DESCRIPTION:Participants will hand build a platter and create an impression design using doilies\, natural and found objects and leaves. Second workshop will be glazing techniques. Two Part Workshop.
X-ALT-DESC;FMTTYPE=text/html:Participants will hand build a platter and create an impression design using doilies\, natural and found objects and leaves. Second workshop will be glazing techniques. Two Part Workshop.
LOCATION:Colquitt County Arts Center\, 401 7th Avenue S.W.\, Moultrie\, GA 31768
UID:e.570.9412
SEQUENCE:3
DTSTAMP:20260426T004229Z
URL:http://business.moultriechamber.com/events/details/ceramic-lace-doily-platter-9412
END:VEVENT

END:VCALENDAR
