BEGIN:VCALENDAR
VERSION:2.0
PRODID:-//ChamberMaster//Event Calendar 2.0//EN
METHOD:PUBLISH
X-PUBLISHED-TTL:P3D
REFRESH-INTERVAL:P3D
CALSCALE:GREGORIAN
BEGIN:VEVENT
DTSTART:20210210T213000Z
DTEND:20210210T234500Z
X-MICROSOFT-CDO-ALLDAYEVENT:FALSE
SUMMARY:Cartoon Class: Valentine Edition
DESCRIPTION:Learn the art of cartooning with instructor Rio Davies. Several styles and characters will be demonstrated and made easy to learn for any level artist. Wednesday\, February 10th Mini cartoonist (ages 6   14) 4:30   5:30 pm Cartoonist (ages 15+) 5:45   6:45 pm $30 All Supplies Provided
X-ALT-DESC;FMTTYPE=text/html:Learn the art of cartooning with instructor Rio Davies. Several styles and characters will be demonstrated and made easy to learn for any level artist. Wednesday\, February 10th Mini cartoonist (ages 6 &ndash\; 14) 4:30 &ndash\; 5:30 pm Cartoonist (ages 15+) 5:45 &ndash\; 6:45 pm $30 All Supplies Provided
LOCATION:Colquitt County Arts Center 401 7th Avenue S.W. Moultrie\, GA 31768
UID:e.570.11285
SEQUENCE:3
DTSTAMP:20260424T124354Z
URL:http://business.moultriechamber.com/events/details/cartoon-class-valentine-edition-11285
END:VEVENT

END:VCALENDAR
