BEGIN:VCALENDAR
VERSION:2.0
PRODID:-//ChamberMaster//Event Calendar 2.0//EN
METHOD:PUBLISH
X-PUBLISHED-TTL:P3D
REFRESH-INTERVAL:P3D
CALSCALE:GREGORIAN
BEGIN:VEVENT
DTSTART:20210122T213000Z
DTEND:20210122T234500Z
X-MICROSOFT-CDO-ALLDAYEVENT:FALSE
SUMMARY:Cartoon Class
DESCRIPTION:Learn the art of cartooning with instructor Rio Davies. Several styles and characters will be demonstrated and made easy to learn for any level artist. Bring a picture of your favorite character and the instructor will teach you how to draw them! Friday\, January 22nd $30 supplies provided Minicartoonist Class (ages 6   14) 4:30 pm   5:30 pm Cartoonist (ages 15+) 5:45 pm   6:45 pm
X-ALT-DESC;FMTTYPE=text/html:Learn the art of cartooning with instructor Rio Davies. Several styles and characters will be demonstrated and made easy to learn for any level artist. Bring a picture of your favorite character and the instructor will teach you how to draw them! Friday\, January 22nd $30 supplies provided Minicartoonist Class (ages 6 &ndash\; 14) 4:30 pm &ndash\; 5:30 pm Cartoonist (ages 15+) 5:45 pm &ndash\; 6:45 pm
LOCATION:Colquitt County Arts Center 401 7th Avenue S.W. Moultrie\, GA 31768
UID:e.570.11292
SEQUENCE:3
DTSTAMP:20260424T140621Z
URL:http://business.moultriechamber.com/events/details/cartoon-class-11292
END:VEVENT

END:VCALENDAR
