BEGIN:VCALENDAR
VERSION:2.0
PRODID:-//ChamberMaster//Event Calendar 2.0//EN
METHOD:PUBLISH
X-PUBLISHED-TTL:P3D
REFRESH-INTERVAL:P3D
CALSCALE:GREGORIAN
BEGIN:VEVENT
DTSTART:20181011T220000Z
DTEND:20181012T000000Z
X-MICROSOFT-CDO-ALLDAYEVENT:FALSE
SUMMARY:Candlelight Vigil for Domestic Violence
DESCRIPTION:This is a night to remember the those who lost their lives to domestic violence.
X-ALT-DESC;FMTTYPE=text/html:This is a night to remember the those who lost their lives to domestic violence.
LOCATION:Colquitt County Annex
UID:e.570.9430
SEQUENCE:3
DTSTAMP:20260426T005059Z
URL:http://business.moultriechamber.com/events/details/candlelight-vigil-for-domestic-violence-9430
END:VEVENT

END:VCALENDAR
