BEGIN:VCALENDAR
VERSION:2.0
PRODID:-//ChamberMaster//Event Calendar 2.0//EN
METHOD:PUBLISH
X-PUBLISHED-TTL:P3D
REFRESH-INTERVAL:P3D
CALSCALE:GREGORIAN
BEGIN:VEVENT
DTSTART;VALUE=DATE:20210726
DTEND;VALUE=DATE:20210731
TRANSP:TRANSPARENT
X-MICROSOFT-CDO-ALLDAYEVENT:TRUE
SUMMARY:Camp Have Fun
DESCRIPTION:Ages 5   12\n\nAre you ready to end Summer with a with a blast? Kids will enjoy a fun eventful activity each day. Nerf war\, mud run\, water balloon fight\, and so much more! Let's end the Summer right!!\n\n\n	Campers encouraged to bring a water bottle
X-ALT-DESC;FMTTYPE=text/html:<p>Ages 5 &ndash\; 12</p>\n\n<p>Are you ready to end Summer with a with a blast? Kids will enjoy a fun eventful activity each day. Nerf war\, mud run\, water balloon fight\, and so much more! Let&rsquo\;s end the Summer right!!</p>\n\n<ul>\n	<li>Campers encouraged to bring a water bottle</li>\n</ul>\n
LOCATION:Moultrie YMCA
UID:e.570.11466
SEQUENCE:3
DTSTAMP:20260424T065016Z
URL:http://business.moultriechamber.com/events/details/camp-have-fun-11466
END:VEVENT

END:VCALENDAR
