BEGIN:VCALENDAR
VERSION:2.0
PRODID:-//ChamberMaster//Event Calendar 2.0//EN
METHOD:PUBLISH
X-PUBLISHED-TTL:P3D
REFRESH-INTERVAL:P3D
CALSCALE:GREGORIAN
BEGIN:VEVENT
DTSTART;VALUE=DATE:20181110
DTEND;VALUE=DATE:20181112
TRANSP:TRANSPARENT
X-MICROSOFT-CDO-ALLDAYEVENT:TRUE
SUMMARY:Calico Holiday Arts and Crafts Show
DESCRIPTION:The Calico Arts and Crafts Show is a one-stop shopping extravaganza for Southwest Georgia and the surrounding area. From ornamental iron home and garden d cor\, to painted glass and antiques\, to whimsical painted children's furniture and accessories it's all together in one location. Approximately 300 vendors featuring fine arts\, handmade crafts and hand decorated items exhibit their lovingly made items so you'll feel really good supporting the local economy while acquiring unique gifts for your friends and family. In addition to the arts and crafts\, Calico offers a wide selection of mouth-watering food and refreshments as well as clogging performances. The show has become an established\, highly anticipated event held each March and November. The Calico Shows are held at Spence Field in Moultrie\, Georgia\, just 4 miles Southeast of Highway 319 on Highway 133. Free parking and easy access make it easy to start having fun immediately.
X-ALT-DESC;FMTTYPE=text/html:The Calico Arts and Crafts Show is a one-stop shopping extravaganza for Southwest Georgia and the surrounding area. From ornamental iron home and garden d&eacute\;cor\, to painted glass and antiques\, to whimsical painted children&rsquo\;s furniture and accessories&hellip\;it&rsquo\;s all together in one location. Approximately 300 vendors featuring fine arts\, handmade crafts and hand decorated items exhibit their lovingly made items so you&rsquo\;ll feel really good supporting the local economy while acquiring unique gifts for your friends and family. In addition to the arts and crafts\, Calico offers a wide selection of mouth-watering food and refreshments as well as clogging performances. The show has become an established\, highly anticipated event held each March and November. The Calico Shows are held at Spence Field in Moultrie\, Georgia\, just 4 miles Southeast of Highway 319 on Highway 133. Free parking and easy access make it easy to start having fun immediately.
LOCATION:Spence Field - Moultrie
UID:e.570.9358
SEQUENCE:3
DTSTAMP:20260425T233316Z
URL:http://business.moultriechamber.com/events/details/calico-holiday-arts-and-crafts-show-9358
END:VEVENT

END:VCALENDAR
