BEGIN:VCALENDAR
VERSION:2.0
PRODID:-//ChamberMaster//Event Calendar 2.0//EN
METHOD:PUBLISH
X-PUBLISHED-TTL:P3D
REFRESH-INTERVAL:P3D
CALSCALE:GREGORIAN
BEGIN:VEVENT
DTSTART:20200210T213000Z
DTEND:20200210T220000Z
X-MICROSOFT-CDO-ALLDAYEVENT:FALSE
SUMMARY:Busniess of the Month Presentation: Sundown Farms Plantation
DESCRIPTION:Join us for our February Business of the Month Presentation at Sundown Farms Plantation!\n\n\n\n#TeamChamber
X-ALT-DESC;FMTTYPE=text/html:Join us for our February Business of the Month Presentation at Sundown Farms Plantation!<br />\n<br />\n#TeamChamber
LOCATION:894 Mack Dekle Road
UID:e.570.11140
SEQUENCE:3
DTSTAMP:20260425T041213Z
URL:http://business.moultriechamber.com/events/details/busniess-of-the-month-presentation-sundown-farms-plantation-11140
END:VEVENT

END:VCALENDAR
