BEGIN:VCALENDAR
VERSION:2.0
PRODID:-//ChamberMaster//Event Calendar 2.0//EN
METHOD:PUBLISH
X-PUBLISHED-TTL:P3D
REFRESH-INTERVAL:P3D
CALSCALE:GREGORIAN
BEGIN:VEVENT
DTSTART:20180803T170000Z
DTEND:20180803T173000Z
X-MICROSOFT-CDO-ALLDAYEVENT:FALSE
SUMMARY:Business of the Month Presentation: Sterling Group Primary Care Clinic
DESCRIPTION:Join us as we present Sterling Group Primary Care Clinic with our Business of the Month honor!
X-ALT-DESC;FMTTYPE=text/html:Join us as we present Sterling Group Primary Care Clinic with our Business of the Month honor!
LOCATION:6 Hospital Park\, Moultrie\, GA
UID:e.570.9349
SEQUENCE:3
DTSTAMP:20260426T032840Z
URL:http://business.moultriechamber.com/events/details/business-of-the-month-presentation-sterling-group-primary-care-clinic-9349
END:VEVENT

END:VCALENDAR
