BEGIN:VCALENDAR
VERSION:2.0
PRODID:-//ChamberMaster//Event Calendar 2.0//EN
METHOD:PUBLISH
X-PUBLISHED-TTL:P3D
REFRESH-INTERVAL:P3D
CALSCALE:GREGORIAN
BEGIN:VEVENT
DTSTART:20180906T190000Z
DTEND:20180906T193000Z
X-MICROSOFT-CDO-ALLDAYEVENT:FALSE
SUMMARY:Business of the Month Presentation: Samara Plantation & Shooting Preserve
DESCRIPTION:Join us as we present Samara Plantation with our Business of the Month honor!
X-ALT-DESC;FMTTYPE=text/html:Join us as we present Samara Plantation with our Business of the Month honor!
LOCATION:Samara Plantation & Shooting Preserve\, 3702 Highway 33 South\, Sylvester\, GA 31791
UID:e.570.9382
SEQUENCE:3
DTSTAMP:20260426T021649Z
URL:http://business.moultriechamber.com/events/details/business-of-the-month-presentation-samara-plantation-shooting-preserve-9382
END:VEVENT

END:VCALENDAR
