BEGIN:VCALENDAR
VERSION:2.0
PRODID:-//ChamberMaster//Event Calendar 2.0//EN
METHOD:PUBLISH
X-PUBLISHED-TTL:P3D
REFRESH-INTERVAL:P3D
CALSCALE:GREGORIAN
BEGIN:VEVENT
DTSTART:20181001T190000Z
DTEND:20181001T193000Z
X-MICROSOFT-CDO-ALLDAYEVENT:FALSE
SUMMARY:Business of the Month Presentation: JCI Contractors
DESCRIPTION:Join us as we honor JCI Contractors during our Business of the Month presentation!!
X-ALT-DESC;FMTTYPE=text/html:Join us as we honor JCI Contractors during our Business of the Month presentation!!
LOCATION:2535 Hwy 37 West
UID:e.570.9440
SEQUENCE:3
DTSTAMP:20260426T005712Z
URL:http://business.moultriechamber.com/events/details/business-of-the-month-presentation-jci-contractors-9440
END:VEVENT

END:VCALENDAR
