BEGIN:VCALENDAR
VERSION:2.0
PRODID:-//ChamberMaster//Event Calendar 2.0//EN
METHOD:PUBLISH
X-PUBLISHED-TTL:P3D
REFRESH-INTERVAL:P3D
CALSCALE:GREGORIAN
BEGIN:VEVENT
DTSTART:20190716T213000Z
DTEND:20190716T230000Z
X-MICROSOFT-CDO-ALLDAYEVENT:FALSE
SUMMARY:Business After Hours- Sunset Country Club
DESCRIPTION:Join us at the Sunset Country Club for a great after hours event!
X-ALT-DESC;FMTTYPE=text/html:Join us at the Sunset Country Club for a great after hours event!
LOCATION:Sunset Country Club 2730 South Main Street\, Moultrie
UID:e.570.9582
SEQUENCE:3
DTSTAMP:20260425T132321Z
URL:http://business.moultriechamber.com/events/details/business-after-hours-sunset-country-club-9582
END:VEVENT

END:VCALENDAR
